BEGIN:VCALENDAR
VERSION:2.0
PRODID:https://github.com/derhansen/sf_event_mgt
METHOD:PUBLISH
BEGIN:VEVENT
UID:14065-86@www.robotron.de
CLASS: PUBLIC
SUMMARY:Robotron E-VIEW
DESCRIPTION:Nach Absage der Leitmesse E-world 2021 laden wir Sie zu unserer
  Live-Webcastreihe zu den Produkthighlights von Robotron im Messefrühjahr e
 in. Mit dem Start am 20. April weiten wir jeden Dienstag und Donnerstag jew
 eils von 10 – 11:30 Uhr gemeinsam den Blick für Themen und Produktneuheiten
  rund um die Digitalisierung der Energiewirtschaft.\n\nMit Ihrer Anmeldung 
 zu ausgewählten Webcasts erhalten Sie ebenfalls den Zugang zu unserer begle
 itenden virtuellen Ausstellung. In der Ausstellung können Sie sich im Ansch
 luss an die virtuellen Live-Online-Sessions weiter zu den präsentierten The
 men informieren und an den Thementagen selbst mit Robotron-Experten ins Ges
 präch kommen.\n\nZeitraum: 20.04. - 04.05.2021\n\nThemen und Termine der Ro
 botron E-VIEW im Überblick:\n\n20.04.2021, 10 Uhr - New Features der Robotr
 on-Prognose-Lösungen: Meilensteine & Roadmap 2021 Referent: Dirk Schramm\n\
 nDie Prognosewerkzeuge von Robotron bieten seit jeher die perfekte Kombinat
 ion verschiedener Methoden für die Kurz-, Mittel- und Langfristprognose von
  Lastgängen. Im Online-Vortrag stellen wir Ihnen aktuelle Neuerungen im Pro
 gnosecenter vor und geben einen Ausblick auf Weiterentwicklungen des robotr
 on*eprofiler und robotron*epredict Version 3.0. Außerdem klären wir Fragen 
 zur Entwicklung und den Vorteilen des geplanten Prognose-Services, vor alle
 m im Zusammenhang mit den Redispatch 2.0-Prozessen.\n\n•    Überblick zu de
 n Robotron Prognosewerkzeugen •    Aktuelle Neuerungen im Robotron Prognose
 center, robotron*eprofiler und robotron*epredict 3.0 •    Blick ins System:
  Visualisierung in der Robotron-Energiemarkt-Plattform\n\nHinweis: Die Anme
 ldemöglichkeit für die Veranstaltung am 20. April ist bereits abgelaufen.\n
 \n22.04.2021, 10 Uhr - Robotron E²-Business – die Plug-In-Lösung für alle M
 arktrollen Referenten: Robert Seidler, Thomas Koch\n\nDas Robotron-Portfoli
 o bietet leistungsfähige Software-Lösungen „mit Energie“ für optimale Werts
 chöpfungsprozesse aller Marktrollen. Darunter Tools für die digitale Energi
 ebeschaffung und Rechnungslegung, die beispielhaft für wesentliche Prozesse
  innovativer EVU sind. Im Online-Vortrag geben wir Ihnen einen Überblick üb
 er die All-in-One-Lösung von Robotron für den vollständigen Meter-to-Cash-P
 rozess. Dabei stellen wir Ihnen neben der EDM-Abrechnungslösung auch die ne
 ue hauseigene Finanz-Software robotron*Finanzen als Neben- und Hauptbuchlös
 ung vor. Automatisierte Workflows und flexible Betriebsformen schaffen die 
 Grundlage für das Gelingen der Redispatch 2.0-Prozesse ab 1. Oktober 2021.\
 n\n•    E²-Business – Big Picture der Robotron Modulwelt für alle Marktroll
 en •    Einblick: Das Power Couple EDM-Rechnungslegung und Finanzbuchhaltun
 g •    Plug and Play für mehr Flexibilität bei der Projektrealisierung und 
 hybride Systemintegration •    Ausblick: Format- und Prozessänderungen mit 
 der Netzzugangsverordnung 2022 Strom\n\nHinweis: Die Anmeldemöglichkeit für
  die Veranstaltung am 22. April ist bereits abgelaufen.\n\n27.04.2021, 10 U
 hr - aEMT – Steuern und Schalten im Energiemarkt der Zukunft Referent: Dr. 
 Kai Herrmann\n\nDas Robotron-Lösungsportfolio für den aktiven Externen Mark
 tteilnehmer (aEMT) bietet neben dem sicheren Messdatenempfang auch die Steu
 erung nachgelagerter Geräte über das Smart-Meter-Gateway. Im Online-Vortrag
  präsentieren wir Ihnen das Produktportfolio zusammen mit den Anwendungsgeb
 ieten für Last- und Einspeisemanagement, Virtuelle Kraftwerke, Steuerung vo
 n EEG-Anlagen und Ladesäulenmanagement. Eine zentrale Rolle im Vortrag nimm
 t die Datendrehscheibe Robotron-IoTHub4Utilities, als Innovationstreiber un
 d Schnittstelle zwischen Metering- und IoT-Dienstleistungen abgestimmt auf 
 die Bedürfnisse der Wohnungswirtschaft, ein.\n\n•    Robotron-Lösungen und 
 Anwendungsfälle für den aEMT •    Robotron-IoTHub4Utilities – Innovationstr
 eiber für Submetering und Mehrwertdienste\n\nHinweis: Die Anmeldemöglichkei
 t für die Veranstaltung am 27. April ist bereits abgelaufen.\n\n29.04.2021,
  10 Uhr - EDM goes mobile - Wir schicken Ihr EDM ins Home Office Referent: 
 Sebastian Reinöhl\n\nDie Energieversorgung arbeitet kontinuierlich an der F
 lexibilisierung digitaler Akquise-, Angebots- oder Betreuungsprozesse. Inno
 vative Antworten sichern langfristig die Kundenzufriedenheit, Innovationskr
 aft und den Erfolg der Vertriebsteams! Ihnen kommen diese Themen bekannt vo
 r? Um Ihren Energievertrieb optimal zu unterstützen, bietet Robotron eine V
 ielzahl von flexiblen Web-Tools. In der Online-Session stellen wir Ihnen di
 e Highlights und Weiterentwicklungen vor.  \n\n•    Energiedaten to go: rob
 otron*Webportal aktuell •    Unverzichtbar: Robotron Online-Preisanfrage – 
 der webbasierte Angebotsrechner für den erfolgreichen Energievertrieb •    
 Blick hinter die Kulissen: Prototyp der Robotron-App zur Lastgangvisualisie
 rung\n\nHinweis: Die Anmeldemöglichkeit für die Veranstaltung am 29. April 
 ist bereits abgelaufen.\n\n04.05.2021, 10 Uhr – Keine Software ohne Service
 s?! ReferentIn: tbd.\n\nNicht erst seit Corona spielen Services in der Aufr
 echterhaltung des Geschäftsbetriebs und in Ergänzung digitaler Wertschöpfun
 gsprozesse eine wesentliche Rolle. Flexible Serviceleistungen bis hin zum O
 utsourcing kompletter Betriebsumgebungen können bei Personalengpässen kurzf
 ristig Abhilfe schaffen, aber auch langfristig wesentliche Prozessoptimieru
 ngen mit sich bringen. Software-Lösungen ohne passendes Service-Portfolio s
 ind kaum mehr denkbar. Im Online-Vortrag geben wir Ihnen einen Überblick üb
 er die umfangreichen Serviceleistungen von Robotron und diskutieren IT-Serv
 ice-Strategien für die zuverlässige Energieversorgung der Zukunft.\n\n•    
 Robotron-Modulwelt meets Robotron Energy Cloud •    Rundum-sorglos mit Ener
 giemarktservices - von der Prognose, Angebotskalkulation über Porftoliomana
 gement bis Redispatch 2.0 •    Einblick in den Robotron Service-Design-Proz
 ess\n\n> Kalendereintrag downloaden\n\nBitte beachten Sie, dass Sie die Ein
 wahldaten zur Online-Veranstaltung nach Anmeldung ca. zwei Tage vor der Ver
 anstaltung erhalten.\n\nHinweis:   Wir veranstalten die Online-Kurse unter 
 Verwendung des Videokonferenz-Dienstes Zoom. Um Sie bestmöglich auf die Ver
 anstaltungsteilnahme vorzubereiten, haben wir die wichtigsten Informationen
  zum Dienst für Sie zusammengetragen. Bitte klicken Sie hier, um weitere In
 formationen und Hinweise zum Einsatz von Zoom sowie die Datenschutzinformat
 ionen zu lesen.
LOCATION:Online
DTSTAMP:20210503T121130Z
DTSTART:20210420T080000Z
DTEND:20210504T090000Z
END:VEVENT
END:VCALENDAR
