BEGIN:VCALENDAR
VERSION:2.0
PRODID:https://github.com/derhansen/sf_event_mgt
METHOD:PUBLISH
BEGIN:VEVENT
UID:13751-86@www.robotron.de
CLASS: PUBLIC
SUMMARY:Redispatch 2.0 für Anlagenbetreiber
DESCRIPTION:Mit dem Inkrafttreten des Netzausbaubeschleunigungsgesetz (NABE
 G 2.0) erhalten auch Anlagenbetreiber neue Vorgaben für den Redispatch-Proz
 ess, die bis zum 1. Oktober 2021 umzusetzen sind. So werden künftig auch EE
 - und KWK-Anlagen ab 100 kW sowie Anlagen, die jederzeit für den Netzbetrei
 ber fernsteuerbar sind, in die Einsatzplanung aufgenommen. In dem Zusammenh
 ang kommt es zu neuen Anforderungen bei der netzdienlichen Anlagesteuerung,
  der Informationsbereitstellung und der standardisierten Marktkommunikation
 . Mit der Integration zahlreicher zusätzlicher Einspeiseanlagen sollen Netz
 engpässe künftig über alle Netzebenen hinweg punktgenau verhindert werden k
 önnen.\n\nBei der dafür nötigen Erarbeitung einer optimierten Datenbasis un
 d Ausgestaltung automatisierter Datenaustauschprozesse unterstützt Robotron
  alle Marktteilnehmer mit prozessorientierten, etablierten Software-Lösunge
 n. Als erfahrener IT-Partner der Branche und Spezialist für das automatisie
 rte Management von Energiedaten laden wir Sie als Anlagenbetreiber herzlich
  zu unserer Online-Infoveranstaltung zum Thema Redispatch 2.0 ein.\n\nAuf d
 em Programm unserer Online-Veranstaltung stehen folgende Themen:\n\n 	Redis
 patch 2.0 – Bedeutung und Potenziale für die Energiewirtschaft 	Kompakter Ü
 berblick über die neuen Anforderungen an Anlagenbetreiber 	Prozessorientier
 te Software-Lösungen von Robotron für: die Marktkommunikation, die Prognose
 , die Ermittlung von Ausfallarbeit, die automatische Anlagensteuerung und A
 brechnung 	Ausblick: Auf dem Weg zum neuen Redispatch-Regime - was ist nun 
 zu tun? \n\nVeranstaltungsdetails:\n\nKostenlose Online-Veranstaltung (Daue
 r: 2,5 Stunden) Donnerstag, 26. November 2020, ab 13:30 Uhr\n\nIhre Referen
 ten: Ralf Teutsch, Product Owner Netzprozesse, Robotron Datenbank-Software 
 GmbH Susanne Pestel, Product Owner Netzprozesse, Robotron Datenbank-Softwar
 e GmbH Dirk Schramm, Product Owner Vertriebsprozesse, Robotron Datenbank-So
 ftware GmbH\n\nHinweis zur Online-Durchführung:\n\nWir veranstalten die Onl
 ine-Veranstaltung unter Verwendung des Videokonferenz-Dienstes Zoom. Um Sie
  bestmöglich auf die Veranstaltungsteilnahme vorzubereiten, haben wir die w
 ichtigsten Informationen zum Dienst für Sie zusammengetragen. Bitte klicken
  Sie hier, um weitere Informationen und Hinweise zum Einsatz von Zoom sowie
  die Datenschutzinformationen zu lesen.\n\nWir freuen uns auf Ihre Anmeldun
 g! \n\n→ weitere Informationen zum Thema Redispatch 2.0
LOCATION:Online
DTSTAMP:20201126T070144Z
DTSTART:20201126T123000Z
DTEND:20201126T150000Z
END:VEVENT
END:VCALENDAR
