BEGIN:VCALENDAR
VERSION:2.0
PRODID:https://github.com/derhansen/sf_event_mgt
METHOD:PUBLISH
BEGIN:VEVENT
UID:16219-86@www.robotron.de
CLASS: PUBLIC
SUMMARY:Online-Infotag: 24h Lieferantenwechsel Strom
DESCRIPTION:Am 21. März 2024 hat die BNetzA die Festlegung für den beschleu
 nigten werktäglichen Lieferantenwechsel in 24 Stunden beschlossen und veröf
 fentlicht. Der Stromlieferantenwechsel soll damit ab dem 1. April 2025 inne
 rhalb eines Werktages durchgeführt werden. Dies führt zu umfassenden Änderu
 ngen bei den energiewirtschaftlichen Prozessen. Als erfahrener IT-Partner d
 er Energiewirtschaft unterstützt Robotron bei der Umstellung.\n\nIm Rahmen 
 unserer Online-Infoveranstaltung am 15. Mai 2024 präsentieren Ihnen unsere 
 Experten kompakt die neuen Prozesse und erläutern die technischen Anforderu
 ngen für die Umstellung.  \n\nWas nehmen Sie von Ihrer Veranstaltungsteilna
 hme mit: \n\n 	Überblick über die neuen Prozesse im Wechselprozessmanagemen
 t 	Technische Anforderungen für die systemseitige Umsetzung (Automatisierun
 gsgrad in der Workflowverarbeitung, Vereinfachung der Klärfallbearbeitung) 
 	Informationen zum API-Webdienst für die Sicherstellung des fristgerechten 
 Datenaustauschs 	Austausch mit den Robotron-Experten \n\nZielgruppe: Verant
 wortliche aus den Bereichen Marktprozesse, Datenformate, Energiedatenmanage
 ment und Informationstechnik in den Marktrollen Netzbetreiber, Lieferant un
 d Messstellenbetreiber\n\nBitte beachten Sie die Teilnahmegebühr von 224 EU
 R pro Person. Die Einwahldaten erhalten Sie nach Ihrer Anmeldung ca. 2 Tage
  vor der Online-Veranstaltung. Bei Fragen zur Veranstaltung melden Sie sich
  bei kristin.griessbach@robotron.de oder franziska-doreen.hornung@robotron.
 de.\n\nHinweis Videokonferenztool:\n\nDie Online-Veranstaltung wird via Zoo
 m durchgeführt. Bitte klicken Sie hier, um weitere Informationen und Hinwei
 se zum Einsatz von Zoom sowie die Datenschutzinformationen zu lesen.
LOCATION:Online
DTSTAMP:20240515T091614Z
DTSTART:20240515T070000Z
DTEND:20240515T103000Z
END:VEVENT
END:VCALENDAR
