BEGIN:VCALENDAR
VERSION:2.0
PRODID:https://github.com/derhansen/sf_event_mgt
METHOD:PUBLISH
BEGIN:VEVENT
UID:17244-86@www.robotron.de
CLASS: PUBLIC
SUMMARY:Messen und Steuern über das Intelligente Messsystem (iMSys) – Herau
 sforderungen und Lösungen für Direktvermarkter und Lieferanten
DESCRIPTION:Die Anforderungen an Direktvermarkter und Lieferanten verändern
  sich grundlegend: Mit der Einführung der BDEW Web-API, neuen regulatorisch
 en Vorgaben sowie der verpflichtenden Steuerbarkeit über das Smart Meter Ga
 teway (SMGW) werden Sie künftig deutlich stärker in Steuerungs- und Flexibi
 litätsprozesse eingebunden.\n\nDamit steigen nicht nur die technischen Anfo
 rderungen – auch bestehende Prozesse rund um Prognose, Fahrplanmanagement u
 nd Portfoliooptimierung müssen neu gedacht werden.\n\nIn unserem Info-Webin
 ar erfahren Sie, welche konkreten Auswirkungen diese Entwicklungen auf Ihre
  Marktrolle, Ihre Prozesse und Ihre Systemlandschaft haben und wie sich die
 se Anforderungen digital abbilden lassen.\n\nIm Webinar zeigen wir Ihnen:\n
 \nwelche regulatorischen Anforderungen (u. a. BDEW Web-API, SMGW-Steuerung)
  auf Sie zukommenwelche Auswirkungen die neuen Vorgaben auf Ihre Kernprozes
 se habenwie die zukünftige System- und Kommunikationsarchitektur rund um iM
 Sys und SMGW aussiehtwelche Daten und Schnittstellen künftig relevant sind 
 und wie Sie diese integrierenwelche Potenziale sich eröffnen – z. B. durch 
 dynamische Netzentgelte oder aktive Steuerung bei volatilen Börsenpreisenwe
 lche konkreten Schritte Sie jetzt einleiten sollten, um bis 2028 vorbereite
 t zu sein\n\nNutzen Sie die Gelegenheit, frühzeitig die richtigen Weichen z
 u stellen, Risiken anzugehen und Chancen zu nutzen.\n\nWir freuen uns auf I
 hre Teilnahme!
LOCATION:Online
DTSTAMP:20260422T100841Z
DTSTART:20260609T080000Z
DTEND:20260609T093000Z
END:VEVENT
END:VCALENDAR
