BEGIN:VCALENDAR
VERSION:2.0
PRODID:https://github.com/derhansen/sf_event_mgt
METHOD:PUBLISH
BEGIN:VEVENT
UID:15123-578@www.robotron.de
CLASS: PUBLIC
SUMMARY:Herbsttagung der Kämmerer im Land Brandenburg
DESCRIPTION:Die Herbsttagung in Bernau bei Berlin dient als Plattform für d
 en Erfahrungsaustausch zwischen den kommunalen Finanzverantwortlichen aus d
 em Land Brandenburg zu allen haushaltsrechtlichen und finanzpolitisch relev
 anten Themen.\n\nSASKIA® ist dabei: Am Ausstellerstand stellen wir Ihnen un
 sere Softwareprodukte für einen effektiven Ablauf in der Verwaltung vor. Da
 zu zählen verschiedene moderne Weblösungen für das optimale Finanzmanagemen
 t. \n\nWir freuen uns über Ihre Teilnahme und stehen für Fragen gern zur Ve
 rfügung.
LOCATION:Stadthalle am Steintor
DTSTAMP:20241021T134401Z
DTSTART:20241113T083000Z
DTEND:20241113T140000Z
END:VEVENT
END:VCALENDAR
