BEGIN:VCALENDAR
VERSION:2.0
PRODID:https://github.com/derhansen/sf_event_mgt
METHOD:PUBLISH
BEGIN:VEVENT
UID:14165-86@www.robotron.de
CLASS: PUBLIC
SUMMARY:Fokustag Oracle Multitenant
DESCRIPTION:Zu unserem Fokustag Oracle Multitenant am 30. September 2021 mö
 chten wir Ihnen die neusten Entwicklungen und spannende Themen rund um die 
 Oracle Multitenant-Architektur präsentieren. Lernen Sie von unseren Experte
 n, wie Sie eine zukunftssichere Basis für den Betrieb Ihrer Datenbanken sch
 affen. Neben umfangreichen Informationen zu Vorteilen und Nutzen von Multi-
 Tenancy im Datenbankumfeld, dürfen auch praktische Beispiele im Kontext von
  Hochverfügbarkeit oder Lifecycle Management nicht fehlen. Wir freuen uns b
 esonders, Ralf Durben und Stefan Menschel von Oracle als Gastreferenten beg
 rüßen zu dürfen!\n\nDie Veranstaltung findet online in der Zeit von 09:00 U
 hr bis 16:30 Uhr statt. Weitere Details und den genauen Ablauf entnehmen Si
 e bitte der Agenda. Wir freuen uns über Ihre verbindliche Anmeldung! Nutzen
  Sie bitte hierfür unser Online-Formular. Die Teilnahme an dem Event ist ko
 stenlos. \n\nAgenda:\n\n 	09:00 - 10:30 Uhr Neues von der Oracle Datenbank 
 und Multitenant Übersicht 	10:45 - 12:15 Uhr Ralf Durben: Vorteile und Nutz
 en von Oracle Multitenant  	13:00 - 14:30 Uhr Stefan Menschel: Multitenant 
 und Hochverfügbarkeit  	14:45 - 15.30 Uhr Thomas Lehmann: Pluggable Databas
 es praktisch ausprobiert 	15.30 - 16:15 Uhr Cornelia Heyde: Hochverfügbarke
 it für Oracle 19c SE2 geht nicht? Oder doch? 	16:15 - 16:30 Uhr Q&A-Session
  mit allen Referenten  \n\nDer Fokustag Oracle Multitenant findet unter Ver
 wendung des Videokonferenz-Dienstes Zoom statt. Die wichtigsten Information
 en zum Dienst finden Sie hier auf unserer Website.
LOCATION:Online
DTSTAMP:20210818T130002Z
DTSTART:20210930T070000Z
DTEND:20210930T143000Z
END:VEVENT
END:VCALENDAR
