BEGIN:VCALENDAR
VERSION:2.0
PRODID:https://github.com/derhansen/sf_event_mgt
METHOD:PUBLISH
BEGIN:VEVENT
UID:15553-86@www.robotron.de
CLASS: PUBLIC
SUMMARY:Fokustag Engineered Systems & Cloud
DESCRIPTION:Am 26. Oktober 2023 findet wieder unser Fokustag zu den Themen 
 Oracle Engineered Systems und Oracle Cloud statt. Freuen Sie sich auf Neuig
 keiten und Projektberichte rund um ODA, Exadata, OCI und die EU Sovereign C
 loud sowie auf einen Oracle Cloud HandsOn Workshop. Im Anschluss laden wir 
 Sie herzlich zum Dresden Database Meetup ein, das zusammen mit dem DOAG Reg
 ionaltreffen stattfindet.\n\nWir freuen uns auf Sie! Ihre Teilnahme ist kos
 tenlos.\n\n\n\nAblauf und Themen:\n\n 	 		 			 			10:45 Uhr 			 			 			Begr
 üßung 			 		 		 			 			11:00 Uhr 			 			 			OCI & EU Sovereign Cloud News (
 Steffen Reißig) 			Moderne IT-Infrastrukturen erfordern eine performante, s
 kalierbare und sichere Basis. In diesem Vortrag sollen die Möglichkeiten de
 r Oracle Cloud Infrastruktur (OCI) in den Ausprägungen Public Cloud und EU 
 Sovereign Cloud beleuchtet werden. Dabei gehen wir auf Vorteile und Rahmenb
 edingungen sowie konkrete Einsatzszenarien ein. 			 		 		 			 			11:45 Uhr 
 			 			 			Kaffeepause  			 		 		 			 			12:00 Uhr 			 			 			Von Null auf 
 Oracle Cloud in 100 Tagen (Sven Illert) 			In diesem Projektbericht wird ge
 zeigt, wie man mit einer geringen Mitarbeiterzahl ein komplexes SaaS-Projek
 t innerhalb von wenigen Monaten für einen großen Kunden im Energiesektor um
 setzen kann. Die Oracle Cloud bot hierfür ideale Bedingungen und es wird so
 wohl auf Probleme, als auch die Besonderheiten eingegangen, welche eine erf
 olgreiche Implementierung ermöglichten. 			 		 		 			 			12:45 Uhr 			 			 
 			Mittagspause  			 		 		 			 			13:30 Uhr 			 			 			Oracle Engineered Sy
 stems: What's new? (Marco Friebe) 			Was hat sich alles seit dem letzten Fo
 kustag im April 2022 im Umfeld der Oracle Engineered Systems getan? 			Wir 
 zeigen Ihnen die Weiterentwicklungen des letzten und aktuellen Jahres und e
 inen Ausblick auf die Roadmap für die ODA, Exadata, PCA und Cloud@Customer 
 Systeme. 			 			 			 			Oracle Cloud HandsOn Workshop (Sven Illert) 			Im O
 racle Cloud Workshop sollen Fragen beantwortet werden, wofür man selten Ant
 worten in den üblichen Präsentationen bekommt. Wir stellen Ihnen eine OCI T
 estumgebung bereit, in der Sie Dinge ausprobieren aber auch die Implementie
 rung von grundlegenden Best Practices durchspielen können. Bei Bedarf könne
 n auch Themen wie Automatisierung mit Terraform besprochen und getestet wer
 den. 			(15:00 Uhr Kaffeepause) 			  			  			  			 		 		 			 			14:15 Uhr 	
 		 			 			Oracle Database Appliance - Funktioniert der "Solution in a Box" 
 Ansatz? (Jörg Sobottka) 			Oracle bewirbt die Oracle Database Appliance (OD
 A) als ideales System für "Solution in a Box". Man soll also, KVM sei Dank,
  eine (oder mehrere) Applikation "als Ganzes" auf der ODA betreiben können 
 - neben den Datenbanken. Wie man so etwas aufsetzt, was out-of-the-box funk
 tioniert und wo man manuell nach Lösungen suchen muss, beleuchtet dieser Vo
 rtrag. 			 		 		 			 			15:00 Uhr 			 			 			Kaffeepause 			 		 		 			 			1
 5:15 Uhr 			 			 			Disaster-Recovery-Lösungen für On-Premises und Cloud - 
 ein Überblick (Marco Pachaly-Mischke) 			Nichts ist schlimmer als ein Total
 ausfall der Datenbanken. Daher ist ein schnelles und effizientes Disaster-R
 ecovery-Konzept enorm wichtig, um den kontinuierlichen Betrieb aufrecht zu 
 erhalten. Welche Möglichkeiten es dabei für die Cloud, für On-Prem oder auc
 h für gemischte Umgebungen gibt und welche Möglichkeiten mit den verschiede
 nen Editionen in Frage kommen, erläutert dieser Vortrag. 			 		 		 			 			1
 6:00 Uhr 			 			 			Diskussion und Networking 			 		 		 			 			16:30 Uhr 		
 	 			 			Ende der Veranstaltung 			 		 		 			 			17:00 Uhr 			 			 			DOAG 
 Regionaltreffen & Dresden Database Meetup (Ende ca. 19:30 Uhr) 			17:00 Uhr
  New Features 23c (Uwe Czarnikow) 			18:00 Uhr Aus der Praxis: "Richtige" N
 utzung eines function based Index (Peter Ramm, OSP Dresden) 			 		 	 \n\n\n
 \n
LOCATION:Robotron Datenbank-Software GmbH
DTSTAMP:20231017T080649Z
DTSTART:20231026T084500Z
DTEND:20231026T143000Z
END:VEVENT
END:VCALENDAR
