BEGIN:VCALENDAR
VERSION:2.0
PRODID:https://github.com/derhansen/sf_event_mgt
METHOD:PUBLISH
BEGIN:VEVENT
UID:17220-86@www.robotron.de
CLASS: PUBLIC
SUMMARY:Fömi.kompakt: Eine schlanke und kostengünstige Software zum Verwalt
 en von Fördermitteln
DESCRIPTION:Ob große Stadt, mittelständige oder kleine Gemeinde: Effiziente
 s Fördermittelmanagement ist für alle Kommunen und Institutionen von zentra
 ler Bedeutung. Neben unserer bewährten Lösung robotron*Fömi.komunal bieten 
 wir mit robotron*Fömi.kompakt eine schlanke und kostengünstige Alternative 
 für Fördermittelempfänger, die schnell und unkompliziert einsteigen möchten
 .\n\nIhre Vorteile auf einen Blick:\n\nAttraktiver Preis und schneller Eins
 tieg dank vordefinierter StammdatenVereinfachte Prozesse für einen spürbar 
 effizienteren ArbeitsalltagMinimaler Schulungsaufwand, ideal auch für klein
 ere Kommunen und GemeindenDirekte, ämterübergreifende Auswertung aller Förd
 ermitteldaten\n\nMit robotron*Fömi.kompakt behalten Sie Ihre Zuwendungen je
 derzeit im Überblick und sichern die Kontrolle über Beantragungen und Mitte
 labrufe während des gesamten Fördervorhabens.\n\nÜberzeugen Sie sich selbst
  und sichern Sie sich Ihren Platz in unserem kostenlosen Online-Seminar am 
 7. Mai um 10:00 Uhr. In einer Live-Demo zeigt Ihnen unsere Expertin Franzis
 ka Kartzow, wie die Software Sie bei der Beantragung von Fördermitteln, der
  Erstellung von Auszahlungsanträgen und bis hin zum Abschluss des Fördervor
 habens unterstützt.\n\nJetzt kostenfrei anmelden.
LOCATION:Online
DTSTAMP:20260331T125022Z
DTSTART:20260507T080000Z
DTEND:20260507T090000Z
END:VEVENT
END:VCALENDAR
