BEGIN:VCALENDAR
VERSION:2.0
PRODID:https://github.com/derhansen/sf_event_mgt
METHOD:PUBLISH
BEGIN:VEVENT
UID:14842-86@www.robotron.de
CLASS: PUBLIC
SUMMARY:DOAG 2022 Konferenz + Ausstellung
DESCRIPTION:Die DOAG 2022 Konferenz + Ausstellung findet vom 20. bis 23. Se
 ptember wieder in Präsenz im Nürnberger NCC Ost statt.\n\nAm 20.9. startet 
 die Konferenz mit einem Thementag. Der 21.9. und 22.9. sind klassische Konf
 erenztage mit einer Vielzahl von parallelen Vorträgen und der Möglichkeit, 
 Networking zu betreiben, während am 23.9 der klassische Schulungstag stattf
 indet. Das Robotron-Team freut sich, sie als Besucher an unserem Stand zu b
 egrüßen.\n\nIm Rahmenprogramm sind unsere Oracle-Experten zudem mit folgend
 en Themen vertreten:\n\n 	Verteilte DBAs in einer Multitenant Umgebung - Co
 mmon oder Local User? 	Dienstag, 20.09.2022 | 10:00 - 10:45 Uhr | Istanbul 
 	Cornelia Heyde 	  	Welcome to Oracle Communities! 	Mittwoch 21.09.2022 | 1
 0:00 - 10:45 | Singapur 	Jörg Sobottka 	  	Mit Pluggable Databases den DevO
 ps-Ansatz unterstützen 	Mittwoch 21.09.2022 | 11:00 - 11:45 | HongKong 	Tho
 mas Lehmann 	  	Datenbankbackups und -recovery mit dem Oracle Recovery Mana
 ger 	Mittwoch 21.09.2022 | 12:00 - 12:45 | Shanghai 	Jörg Sobottka 	  	Orac
 le Database Appliance - Funktioniert der "Solution in a Box" Ansatz? 	Mittw
 och 21.09.2022 | 16:00 - 16:45 | Stockholm 	Jörg Sobottka 	  	Es ist immer 
 die Datenbank 	Donnerstag 22.09.2022 | 10:00 - 10:45 | Tokio (DOAG Studio) 
 	Marco Pachaly-Mischke  	 	Erfahrungen aus Multitenant Projekten 	Donnersta
 g 22.09.2022 | 15:00 - 15:45 | Tokio (DOAG Studio) 	Marco Pachaly-Mischke 
LOCATION:Nürnberg Convention Center Ost
DTSTAMP:20220922T082207Z
DTSTART:20220920T070000Z
DTEND:20220923T150000Z
END:VEVENT
END:VCALENDAR
