BEGIN:VCALENDAR
VERSION:2.0
PRODID:https://github.com/derhansen/sf_event_mgt
METHOD:PUBLISH
BEGIN:VEVENT
UID:16514-718@www.robotron.de
CLASS: PUBLIC
SUMMARY:25. Robotron-Jahrestagung Energiewirtschaft
DESCRIPTION:Die Robotron-Jahrestagung Energiewirtschaft feiert 25-jähriges 
 Jubiläum!\n\nDiesen besonderen Anlass möchten wir am 25. und 26. September 
 2025 in Dresden gemeinsam mit Ihnen feiern!\n\nSeit einem Vierteljahrhunder
 t steht das Tagungsformat für Neuheiten und Weiterentwicklungen der Robotro
 n-Energiemarkt-Plattform, inspirierende Keynotes, Fachvorträge zu aktuellen
  Themen der Energiewirtschaft und wertvollen persönlichen Wissensaustausch.
  Freuen Sie sich mit uns auf folgende Veranstaltungshighlights:\n\nInspirie
 rende Keynotes und interessante FachvorträgeNeuheiten und Weiterentwicklung
 en rund um die Robotron-Energiemarkt-PlattformEine Partner- und Hausmesse m
 it Raum für NetworkingUnd natürlich eine besondere Abendveranstaltung zum J
 ubiläum!\n\nWir freuen uns darauf, dieses besondere Ereignis gemeinsam mit 
 Ihnen zu feiern und Sie im September in Dresden willkommen zu heißen!\n\nHi
 nweis: Die Veranstaltung ist bereits ausgebucht. Eine Anmeldung ist nicht m
 ehr möglich.  
LOCATION:Penck Hotel Dresden & Robotron Datenbank-Software GmbH Schulungs- 
 und Kongresszentrum
DTSTAMP:20250924T140150Z
DTSTART:20250925T093000Z
DTEND:20250926T130000Z
END:VEVENT
END:VCALENDAR
